BEGIN:VCALENDAR
VERSION:2.0
PRODID:-//MASMTB - ECPv6.2.4//NONSGML v1.0//EN
CALSCALE:GREGORIAN
METHOD:PUBLISH
X-WR-CALNAME:MASMTB
X-ORIGINAL-URL:https://masmtb.es
X-WR-CALDESC:Eventos para MASMTB
REFRESH-INTERVAL;VALUE=DURATION:PT1H
X-Robots-Tag:noindex
X-PUBLISHED-TTL:PT1H
BEGIN:VTIMEZONE
TZID:UTC
BEGIN:STANDARD
TZOFFSETFROM:+0000
TZOFFSETTO:+0000
TZNAME:UTC
DTSTART:20180101T000000
END:STANDARD
END:VTIMEZONE
BEGIN:VEVENT
DTSTART;TZID=UTC:20180408T080000
DTEND;TZID=UTC:20180408T170000
DTSTAMP:20260421T144534
CREATED:20180325T192925Z
LAST-MODIFIED:20180325T192925Z
UID:9150-1523174400-1523206800@masmtb.es
SUMMARY:Open de España de Enduro 2018 La Adrada Enduro Extrem
DESCRIPTION:Segunda sede del Open de España de Enduro 2018\, donde estamos colaborando con el Club BikeMadrid en la organización de la carrera. \nDiversión y competición van de la mano! Te la vas a perder? \nMás info en la web de BikeMadrid. \n  \nSenderos de flow que no olvidarás facilmente… \n  \nPuedes inscribirte aquí \n\nHAPPY TRAILS\, FLOW AND GRIP!!!
URL:https://masmtb.es/evento/open-espana-enduro-2018-la-adrada-enduro-extrem/
LOCATION:La Adrada
CATEGORIES:AGENDA ENDURO
END:VEVENT
END:VCALENDAR